BEGIN:VCALENDAR
VERSION:2.0
PRODID:-//wp-events-plugin.com//7.2.3.1//EN
TZID:Europe/Berlin
X-WR-TIMEZONE:Europe/Berlin
BEGIN:VEVENT
UID:37@luftsportverband-mv.de
DTSTART;TZID=Europe/Berlin;VALUE=DATE:20130629
DTEND;TZID=Europe/Berlin;VALUE=DATE:20130706
DTSTAMP:20130130T130449Z
URL:https://www.luftsportverband-mv.de/events/trainingswoche-vor-lm-2013-i
 n-pasewalk/
SUMMARY:Trainingswoche vor LM 2013 in Pasewalk
DESCRIPTION:weiter Informationen und Downloads\n\n
CATEGORIES:Pasewalker Luftsportclub “Die Ueckerfalken” e.V.,Segelflug
LOCATION:Pasewalker Luftsportclub “Die Ueckerfalken” e.V.\, Franzfelde 
 29\, Pasewalk\, 17309\, Verein\, Deutschland
GEO:53.512248;13.949458
X-APPLE-STRUCTURED-LOCATION;VALUE=URI;X-ADDRESS=Franzfelde 29\, Pasewalk\, 
 17309\, Verein\, Deutschland;X-APPLE-RADIUS=100;X-TITLE=Pasewalker Luftspo
 rtclub “Die Ueckerfalken” e.V.:geo:53.512248,13.949458
END:VEVENT
BEGIN:VTIMEZONE
TZID:Europe/Berlin
X-LIC-LOCATION:Europe/Berlin
BEGIN:DAYLIGHT
DTSTART:20130331T030000
TZOFFSETFROM:+0100
TZOFFSETTO:+0200
TZNAME:CEST
END:DAYLIGHT
END:VTIMEZONE
END:VCALENDAR